BEGIN:VCALENDAR
VERSION:2.0
PRODID:-//Plant City Today - ECPv6.15.20//NONSGML v1.0//EN
CALSCALE:GREGORIAN
METHOD:PUBLISH
X-WR-CALNAME:Plant City Today
X-ORIGINAL-URL:https://plantcitytoday.com
X-WR-CALDESC:Events for Plant City Today
REFRESH-INTERVAL;VALUE=DURATION:PT1H
X-Robots-Tag:noindex
X-PUBLISHED-TTL:PT1H
BEGIN:VTIMEZONE
TZID:America/New_York
BEGIN:DAYLIGHT
TZOFFSETFROM:-0500
TZOFFSETTO:-0400
TZNAME:EDT
DTSTART:20240310T070000
END:DAYLIGHT
BEGIN:STANDARD
TZOFFSETFROM:-0400
TZOFFSETTO:-0500
TZNAME:EST
DTSTART:20241103T060000
END:STANDARD
BEGIN:DAYLIGHT
TZOFFSETFROM:-0500
TZOFFSETTO:-0400
TZNAME:EDT
DTSTART:20250309T070000
END:DAYLIGHT
BEGIN:STANDARD
TZOFFSETFROM:-0400
TZOFFSETTO:-0500
TZNAME:EST
DTSTART:20251102T060000
END:STANDARD
BEGIN:DAYLIGHT
TZOFFSETFROM:-0500
TZOFFSETTO:-0400
TZNAME:EDT
DTSTART:20260308T070000
END:DAYLIGHT
BEGIN:STANDARD
TZOFFSETFROM:-0400
TZOFFSETTO:-0500
TZNAME:EST
DTSTART:20261101T060000
END:STANDARD
END:VTIMEZONE
BEGIN:VEVENT
DTSTART;TZID=America/New_York:20250303T193000
DTEND;TZID=America/New_York:20250303T210000
DTSTAMP:20260419T175025
CREATED:20250220T132106Z
LAST-MODIFIED:20250220T132552Z
UID:10000321-1741030200-1741035600@plantcitytoday.com
SUMMARY:Boyz II Men
DESCRIPTION:
URL:https://plantcitytoday.com/event/boyz-ii-men/
CATEGORIES:Strawberry Festival
END:VEVENT
BEGIN:VEVENT
DTSTART;TZID=America/New_York:20250303T153000
DTEND;TZID=America/New_York:20250303T170000
DTSTAMP:20260419T175025
CREATED:20250220T132106Z
LAST-MODIFIED:20250220T132556Z
UID:10000320-1741015800-1741021200@plantcitytoday.com
SUMMARY:Cornell Gunter’s Coasters\, The Drifters & The Platters
DESCRIPTION:
URL:https://plantcitytoday.com/event/cornell-gunters-coasters-the-drifters-the-platters/
CATEGORIES:Strawberry Festival
END:VEVENT
BEGIN:VEVENT
DTSTART;TZID=America/New_York:20250302T193000
DTEND;TZID=America/New_York:20250302T210000
DTSTAMP:20260419T175025
CREATED:20250220T132106Z
LAST-MODIFIED:20250220T132601Z
UID:10000319-1740943800-1740949200@plantcitytoday.com
SUMMARY:Bailey Zimmerman
DESCRIPTION:
URL:https://plantcitytoday.com/event/bailey-zimmerman/
CATEGORIES:Strawberry Festival
END:VEVENT
BEGIN:VEVENT
DTSTART;TZID=America/New_York:20250301T193000
DTEND;TZID=America/New_York:20250301T210000
DTSTAMP:20260419T175025
CREATED:20250220T132105Z
LAST-MODIFIED:20250220T132606Z
UID:10000318-1740857400-1740862800@plantcitytoday.com
SUMMARY:Lauren Daigle
DESCRIPTION:
URL:https://plantcitytoday.com/event/lauren-daigle/
CATEGORIES:Strawberry Festival
END:VEVENT
BEGIN:VEVENT
DTSTART;TZID=America/New_York:20250301T153000
DTEND;TZID=America/New_York:20250301T170000
DTSTAMP:20260419T175025
CREATED:20250220T132105Z
LAST-MODIFIED:20250220T132612Z
UID:10000317-1740843000-1740848400@plantcitytoday.com
SUMMARY:Home Free
DESCRIPTION:
URL:https://plantcitytoday.com/event/home-free/
CATEGORIES:Strawberry Festival
END:VEVENT
BEGIN:VEVENT
DTSTART;TZID=America/New_York:20250228T193000
DTEND;TZID=America/New_York:20250228T210000
DTSTAMP:20260419T175025
CREATED:20250220T132104Z
LAST-MODIFIED:20250220T132618Z
UID:10000316-1740771000-1740776400@plantcitytoday.com
SUMMARY:Reba McEntire
DESCRIPTION:
URL:https://plantcitytoday.com/event/reba-mcentire/
CATEGORIES:Strawberry Festival
END:VEVENT
BEGIN:VEVENT
DTSTART;TZID=America/New_York:20250228T153000
DTEND;TZID=America/New_York:20250228T170000
DTSTAMP:20260419T175025
CREATED:20250220T132104Z
LAST-MODIFIED:20250220T132625Z
UID:10000315-1740756600-1740762000@plantcitytoday.com
SUMMARY:Roots & Boots (Sammy Kershaw\, Aaron Tippin\, Collin Raye)
DESCRIPTION:
URL:https://plantcitytoday.com/event/roots-boots-sammy-kershaw-aaron-tippin-collin-raye/
CATEGORIES:Strawberry Festival
END:VEVENT
BEGIN:VEVENT
DTSTART;TZID=America/New_York:20250227T193000
DTEND;TZID=America/New_York:20250227T210000
DTSTAMP:20260419T175025
CREATED:20250220T132104Z
LAST-MODIFIED:20250220T132630Z
UID:10000314-1740684600-1740690000@plantcitytoday.com
SUMMARY:Nate Smith
DESCRIPTION:
URL:https://plantcitytoday.com/event/nate-smith/
CATEGORIES:Strawberry Festival
END:VEVENT
BEGIN:VEVENT
DTSTART;TZID=America/New_York:20250227T153000
DTEND;TZID=America/New_York:20250227T170000
DTSTAMP:20260419T175025
CREATED:20250220T132103Z
LAST-MODIFIED:20250220T132639Z
UID:10000313-1740670200-1740675600@plantcitytoday.com
SUMMARY:Tommy James & The Shondells
DESCRIPTION:
URL:https://plantcitytoday.com/event/tommy-james-the-shondells/
CATEGORIES:Strawberry Festival
END:VEVENT
BEGIN:VEVENT
DTSTART;TZID=America/New_York:20250227T103000
DTEND;TZID=America/New_York:20250227T120000
DTSTAMP:20260419T175025
CREATED:20250220T132103Z
LAST-MODIFIED:20250220T132644Z
UID:10000312-1740652200-1740657600@plantcitytoday.com
SUMMARY:Jimmy Sturr & His Orchestra
DESCRIPTION:
URL:https://plantcitytoday.com/event/jimmy-sturr-his-orchestra/
CATEGORIES:Strawberry Festival
END:VEVENT
END:VCALENDAR