BEGIN:VCALENDAR
VERSION:2.0
PRODID:-//Plant City Today - ECPv6.15.20//NONSGML v1.0//EN
CALSCALE:GREGORIAN
METHOD:PUBLISH
X-WR-CALNAME:Plant City Today
X-ORIGINAL-URL:https://plantcitytoday.com
X-WR-CALDESC:Events for Plant City Today
REFRESH-INTERVAL;VALUE=DURATION:PT1H
X-Robots-Tag:noindex
X-PUBLISHED-TTL:PT1H
BEGIN:VTIMEZONE
TZID:America/New_York
BEGIN:DAYLIGHT
TZOFFSETFROM:-0500
TZOFFSETTO:-0400
TZNAME:EDT
DTSTART:20240310T070000
END:DAYLIGHT
BEGIN:STANDARD
TZOFFSETFROM:-0400
TZOFFSETTO:-0500
TZNAME:EST
DTSTART:20241103T060000
END:STANDARD
BEGIN:DAYLIGHT
TZOFFSETFROM:-0500
TZOFFSETTO:-0400
TZNAME:EDT
DTSTART:20250309T070000
END:DAYLIGHT
BEGIN:STANDARD
TZOFFSETFROM:-0400
TZOFFSETTO:-0500
TZNAME:EST
DTSTART:20251102T060000
END:STANDARD
BEGIN:DAYLIGHT
TZOFFSETFROM:-0500
TZOFFSETTO:-0400
TZNAME:EDT
DTSTART:20260308T070000
END:DAYLIGHT
BEGIN:STANDARD
TZOFFSETFROM:-0400
TZOFFSETTO:-0500
TZNAME:EST
DTSTART:20261101T060000
END:STANDARD
END:VTIMEZONE
BEGIN:VEVENT
DTSTART;TZID=America/New_York:20250809T183000
DTEND;TZID=America/New_York:20250809T183000
DTSTAMP:20260419T101309
CREATED:20250810T224409Z
LAST-MODIFIED:20250810T224409Z
UID:10000363-1754764200-1754764200@plantcitytoday.com
SUMMARY:Downtown Plant City Second Saturday Sounds With Jay Hill
DESCRIPTION:Second Saturday Sounds with Jay Hill.
URL:https://plantcitytoday.com/event/downtown-plant-city-second-saturday-sounds-with-jay-hill/
END:VEVENT
BEGIN:VEVENT
DTSTART;TZID=America/New_York:20250808T073000
DTEND;TZID=America/New_York:20250808T073000
DTSTAMP:20260419T101309
CREATED:20250810T224355Z
LAST-MODIFIED:20250810T224355Z
UID:10000362-1754638200-1754638200@plantcitytoday.com
SUMMARY:New Teacher Breakfast
DESCRIPTION:Annual welcome for new teachers and principals.
URL:https://plantcitytoday.com/event/new-teacher-breakfast/
END:VEVENT
BEGIN:VEVENT
DTSTART;TZID=America/New_York:20250807T073000
DTEND;TZID=America/New_York:20250807T073000
DTSTAMP:20260419T101309
CREATED:20250810T224353Z
LAST-MODIFIED:20250810T224353Z
UID:10000359-1754551800-1754551800@plantcitytoday.com
SUMMARY:Plant City Toastmasters
DESCRIPTION:Weekly Toastmasters meeting.
URL:https://plantcitytoday.com/event/plant-city-toastmasters-2/
END:VEVENT
BEGIN:VEVENT
DTSTART;TZID=America/New_York:20250807T000000
DTEND;TZID=America/New_York:20250807T000000
DTSTAMP:20260419T101309
CREATED:20250810T224354Z
LAST-MODIFIED:20250810T224354Z
UID:10000360-1754524800-1754524800@plantcitytoday.com
SUMMARY:Entrepreneur/Small Business Consulting Services
DESCRIPTION:Consulting services session (time not listed; placeholder).
URL:https://plantcitytoday.com/event/entrepreneur-small-business-consulting-services-4/
END:VEVENT
BEGIN:VEVENT
DTSTART;TZID=America/New_York:20250807T000000
DTEND;TZID=America/New_York:20250807T000000
DTSTAMP:20260419T101309
CREATED:20250810T224354Z
LAST-MODIFIED:20250810T224354Z
UID:10000361-1754524800-1754524800@plantcitytoday.com
SUMMARY:Ribbon Cutting - Taylor Morrison
DESCRIPTION:Ribbon Cutting for Taylor Morrison (time not listed; placeholder).
URL:https://plantcitytoday.com/event/ribbon-cutting-taylor-morrison/
END:VEVENT
BEGIN:VEVENT
DTSTART;TZID=America/New_York:20250806T081500
DTEND;TZID=America/New_York:20250806T081500
DTSTAMP:20260419T101309
CREATED:20250810T224353Z
LAST-MODIFIED:20250810T224353Z
UID:10000358-1754468100-1754468100@plantcitytoday.com
SUMMARY:Business Builders Roundtable Networking
DESCRIPTION:Weekly networking roundtable.
URL:https://plantcitytoday.com/event/business-builders-roundtable-networking/
END:VEVENT
BEGIN:VEVENT
DTSTART;TZID=America/New_York:20250805T110000
DTEND;TZID=America/New_York:20250805T110000
DTSTAMP:20260419T101309
CREATED:20250810T224351Z
LAST-MODIFIED:20250810T224351Z
UID:10000357-1754391600-1754391600@plantcitytoday.com
SUMMARY:Ribbon Cutting - Osborne & Francis PLLC.
DESCRIPTION:Ribbon Cutting for Osborne & Francis PLLC.
URL:https://plantcitytoday.com/event/ribbon-cutting-osborne-francis-pllc/
END:VEVENT
BEGIN:VEVENT
DTSTART;TZID=America/New_York:20250805T080000
DTEND;TZID=America/New_York:20250805T080000
DTSTAMP:20260419T101309
CREATED:20250810T224351Z
LAST-MODIFIED:20250810T224351Z
UID:10000356-1754380800-1754380800@plantcitytoday.com
SUMMARY:Connect & Grow (Leads Group)
DESCRIPTION:Connect & Grow leads group meets bi-monthly.
URL:https://plantcitytoday.com/event/connect-grow-leads-group-4/
END:VEVENT
BEGIN:VEVENT
DTSTART;TZID=America/New_York:20250804T180000
DTEND;TZID=America/New_York:20250804T180000
DTSTAMP:20260419T101309
CREATED:20250810T224351Z
LAST-MODIFIED:20250810T224351Z
UID:10000355-1754330400-1754330400@plantcitytoday.com
SUMMARY:Community Free Food Pantry
DESCRIPTION:Weekly community free food pantry — listing shows FREE admission.
URL:https://plantcitytoday.com/event/community-free-food-pantry/
END:VEVENT
BEGIN:VEVENT
DTSTART;TZID=America/New_York:20250804T173000
DTEND;TZID=America/New_York:20250804T173000
DTSTAMP:20260419T101309
CREATED:20250810T224350Z
LAST-MODIFIED:20250810T224350Z
UID:10000354-1754328600-1754328600@plantcitytoday.com
SUMMARY:Osborne & Francis
DESCRIPTION:Event listing from Plant City Chamber calendar.
URL:https://plantcitytoday.com/event/osborne-francis/
END:VEVENT
BEGIN:VEVENT
DTSTART;TZID=America/New_York:20250802T100000
DTEND;TZID=America/New_York:20250802T100000
DTSTAMP:20260419T101309
CREATED:20250810T224350Z
LAST-MODIFIED:20250810T224350Z
UID:10000353-1754128800-1754128800@plantcitytoday.com
SUMMARY:Back to School Giveaway
DESCRIPTION:Back to School Giveaway — from Plant City Chamber calendar (business.plantcity.org).
URL:https://plantcitytoday.com/event/back-to-school-giveaway/
END:VEVENT
BEGIN:VEVENT
DTSTART;TZID=America/New_York:20250722T090000
DTEND;TZID=America/New_York:20250723T130000
DTSTAMP:20260419T101309
CREATED:20250314T115844Z
LAST-MODIFIED:20250314T121016Z
UID:10000350-1753174800-1753275600@plantcitytoday.com
SUMMARY:Plant City HS Cheerleading Mini Camp
DESCRIPTION:Join your 2025 State\, National\, and World Champion Cheerleaders for a 2-day camp filled with fun\, learning new skills\, and all things cheerleading! Ages 4-13.
URL:https://plantcitytoday.com/event/plant-city-hs-cheerleading-mini-camp/
LOCATION:Plant City High School\, 1 Raider Place\, Plant City\, FL\, 33563\, United States
CATEGORIES:Sports
ATTACH;FMTTYPE=image/jpeg:https://plantcitytoday.com/wp-content/uploads/2025/03/Green-Orange-Photo-Collage-Summer-Camp-Flyer-1-1.jpeg
END:VEVENT
BEGIN:VEVENT
DTSTART;TZID=America/New_York:20250711T160000
DTEND;TZID=America/New_York:20250711T210000
DTSTAMP:20260419T101309
CREATED:20250808T203437Z
LAST-MODIFIED:20250808T203437Z
UID:10000352-1752249600-1752267600@plantcitytoday.com
SUMMARY:Catnip After Dark
DESCRIPTION:Come join us at Catnip Cafe and Lounge for new savory food and drinks.
URL:https://plantcitytoday.com/event/catnip-after-dark/
LOCATION:catnip Cafe and Lounge\, 202 South Collins St\, Plant City\, FL\, United States
END:VEVENT
BEGIN:VEVENT
DTSTART;TZID=America/New_York:20250318T163000
DTEND;TZID=America/New_York:20250318T193000
DTSTAMP:20260419T101309
CREATED:20250403T180816Z
LAST-MODIFIED:20250403T180816Z
UID:10000351-1742315400-1742326200@plantcitytoday.com
SUMMARY:Jason Jones
DESCRIPTION:Drop in fundraiser and sign pick up
URL:https://plantcitytoday.com/event/jason-jones/
LOCATION:1916 Irish Pub\, 2309 Thonotosassa Rd.\, Plant City\, FL\, 33563\, United States
CATEGORIES:Fundraisers & Non-profit
ATTACH;FMTTYPE=image/png:https://plantcitytoday.com/wp-content/uploads/2025/03/5407986236087964268.png
END:VEVENT
BEGIN:VEVENT
DTSTART;TZID=America/New_York:20250309T193000
DTEND;TZID=America/New_York:20250309T210000
DTSTAMP:20260419T101309
CREATED:20250220T132152Z
LAST-MODIFIED:20250220T132436Z
UID:10000333-1741548600-1741554000@plantcitytoday.com
SUMMARY:John Fogerty
DESCRIPTION:
URL:https://plantcitytoday.com/event/john-fogerty/
CATEGORIES:Strawberry Festival
END:VEVENT
BEGIN:VEVENT
DTSTART;TZID=America/New_York:20250308T193000
DTEND;TZID=America/New_York:20250308T210000
DTSTAMP:20260419T101309
CREATED:20250220T132151Z
LAST-MODIFIED:20250220T132443Z
UID:10000332-1741462200-1741467600@plantcitytoday.com
SUMMARY:Nelly
DESCRIPTION:
URL:https://plantcitytoday.com/event/nelly/
CATEGORIES:Strawberry Festival
END:VEVENT
BEGIN:VEVENT
DTSTART;TZID=America/New_York:20250308T153000
DTEND;TZID=America/New_York:20250308T170000
DTSTAMP:20260419T101309
CREATED:20250220T132139Z
LAST-MODIFIED:20250220T132452Z
UID:10000331-1741447800-1741453200@plantcitytoday.com
SUMMARY:Sawyer Brown
DESCRIPTION:
URL:https://plantcitytoday.com/event/sawyer-brown/
CATEGORIES:Strawberry Festival
END:VEVENT
BEGIN:VEVENT
DTSTART;TZID=America/New_York:20250307T193000
DTEND;TZID=America/New_York:20250307T210000
DTSTAMP:20260419T101309
CREATED:20250220T132138Z
LAST-MODIFIED:20250220T132500Z
UID:10000330-1741375800-1741381200@plantcitytoday.com
SUMMARY:Jon Pardi
DESCRIPTION:
URL:https://plantcitytoday.com/event/jon-pardi/
CATEGORIES:Strawberry Festival
END:VEVENT
BEGIN:VEVENT
DTSTART;TZID=America/New_York:20250307T153000
DTEND;TZID=America/New_York:20250307T170000
DTSTAMP:20260419T101309
CREATED:20250220T132138Z
LAST-MODIFIED:20250220T132506Z
UID:10000329-1741361400-1741366800@plantcitytoday.com
SUMMARY:The Beach Boys
DESCRIPTION:
URL:https://plantcitytoday.com/event/the-beach-boys/
CATEGORIES:Strawberry Festival
END:VEVENT
BEGIN:VEVENT
DTSTART;TZID=America/New_York:20250306T193000
DTEND;TZID=America/New_York:20250306T210000
DTSTAMP:20260419T101309
CREATED:20250220T132137Z
LAST-MODIFIED:20250220T132512Z
UID:10000328-1741289400-1741294800@plantcitytoday.com
SUMMARY:Whiskey Myers
DESCRIPTION:
URL:https://plantcitytoday.com/event/whiskey-myers/
CATEGORIES:Strawberry Festival
END:VEVENT
BEGIN:VEVENT
DTSTART;TZID=America/New_York:20250306T153000
DTEND;TZID=America/New_York:20250306T170000
DTSTAMP:20260419T101309
CREATED:20250220T132136Z
LAST-MODIFIED:20250220T132520Z
UID:10000327-1741275000-1741280400@plantcitytoday.com
SUMMARY:The Oak Ridge Boys
DESCRIPTION:
URL:https://plantcitytoday.com/event/the-oak-ridge-boys/
CATEGORIES:Strawberry Festival
END:VEVENT
BEGIN:VEVENT
DTSTART;TZID=America/New_York:20250306T103000
DTEND;TZID=America/New_York:20250306T120000
DTSTAMP:20260419T101309
CREATED:20250220T132123Z
LAST-MODIFIED:20250220T132526Z
UID:10000326-1741257000-1741262400@plantcitytoday.com
SUMMARY:Jimmy Fortune
DESCRIPTION:
URL:https://plantcitytoday.com/event/jimmy-fortune/
CATEGORIES:Strawberry Festival
END:VEVENT
BEGIN:VEVENT
DTSTART;TZID=America/New_York:20250305T193000
DTEND;TZID=America/New_York:20250305T210000
DTSTAMP:20260419T101309
CREATED:20250220T132122Z
LAST-MODIFIED:20250220T132531Z
UID:10000325-1741203000-1741208400@plantcitytoday.com
SUMMARY:Lynyrd Skynyrd
DESCRIPTION:
URL:https://plantcitytoday.com/event/lynyrd-skynyrd/
CATEGORIES:Strawberry Festival
END:VEVENT
BEGIN:VEVENT
DTSTART;TZID=America/New_York:20250305T153000
DTEND;TZID=America/New_York:20250305T170000
DTSTAMP:20260419T101309
CREATED:20250220T132122Z
LAST-MODIFIED:20250220T132536Z
UID:10000324-1741188600-1741194000@plantcitytoday.com
SUMMARY:The Bellamy Brothers
DESCRIPTION:
URL:https://plantcitytoday.com/event/the-bellamy-brothers/
CATEGORIES:Strawberry Festival
END:VEVENT
BEGIN:VEVENT
DTSTART;TZID=America/New_York:20250304T193000
DTEND;TZID=America/New_York:20250304T210000
DTSTAMP:20260419T101309
CREATED:20250220T132122Z
LAST-MODIFIED:20250220T132541Z
UID:10000323-1741116600-1741122000@plantcitytoday.com
SUMMARY:Chris Tomlin
DESCRIPTION:
URL:https://plantcitytoday.com/event/chris-tomlin/
CATEGORIES:Strawberry Festival
END:VEVENT
BEGIN:VEVENT
DTSTART;TZID=America/New_York:20250304T153000
DTEND;TZID=America/New_York:20250304T170000
DTSTAMP:20260419T101309
CREATED:20250220T132121Z
LAST-MODIFIED:20250220T132546Z
UID:10000322-1741102200-1741107600@plantcitytoday.com
SUMMARY:Sara Evans
DESCRIPTION:
URL:https://plantcitytoday.com/event/sara-evans/
CATEGORIES:Strawberry Festival
END:VEVENT
BEGIN:VEVENT
DTSTART;TZID=America/New_York:20250303T193000
DTEND;TZID=America/New_York:20250303T210000
DTSTAMP:20260419T101309
CREATED:20250220T132106Z
LAST-MODIFIED:20250220T132552Z
UID:10000321-1741030200-1741035600@plantcitytoday.com
SUMMARY:Boyz II Men
DESCRIPTION:
URL:https://plantcitytoday.com/event/boyz-ii-men/
CATEGORIES:Strawberry Festival
END:VEVENT
BEGIN:VEVENT
DTSTART;TZID=America/New_York:20250303T153000
DTEND;TZID=America/New_York:20250303T170000
DTSTAMP:20260419T101309
CREATED:20250220T132106Z
LAST-MODIFIED:20250220T132556Z
UID:10000320-1741015800-1741021200@plantcitytoday.com
SUMMARY:Cornell Gunter’s Coasters\, The Drifters & The Platters
DESCRIPTION:
URL:https://plantcitytoday.com/event/cornell-gunters-coasters-the-drifters-the-platters/
CATEGORIES:Strawberry Festival
END:VEVENT
BEGIN:VEVENT
DTSTART;TZID=America/New_York:20250302T193000
DTEND;TZID=America/New_York:20250302T210000
DTSTAMP:20260419T101309
CREATED:20250220T132106Z
LAST-MODIFIED:20250220T132601Z
UID:10000319-1740943800-1740949200@plantcitytoday.com
SUMMARY:Bailey Zimmerman
DESCRIPTION:
URL:https://plantcitytoday.com/event/bailey-zimmerman/
CATEGORIES:Strawberry Festival
END:VEVENT
BEGIN:VEVENT
DTSTART;TZID=America/New_York:20250301T193000
DTEND;TZID=America/New_York:20250301T210000
DTSTAMP:20260419T101309
CREATED:20250220T132105Z
LAST-MODIFIED:20250220T132606Z
UID:10000318-1740857400-1740862800@plantcitytoday.com
SUMMARY:Lauren Daigle
DESCRIPTION:
URL:https://plantcitytoday.com/event/lauren-daigle/
CATEGORIES:Strawberry Festival
END:VEVENT
END:VCALENDAR