BEGIN:VCALENDAR
VERSION:2.0
PRODID:-//Plant City Today - ECPv6.15.20//NONSGML v1.0//EN
CALSCALE:GREGORIAN
METHOD:PUBLISH
X-WR-CALNAME:Plant City Today
X-ORIGINAL-URL:https://plantcitytoday.com
X-WR-CALDESC:Events for Plant City Today
REFRESH-INTERVAL;VALUE=DURATION:PT1H
X-Robots-Tag:noindex
X-PUBLISHED-TTL:PT1H
BEGIN:VTIMEZONE
TZID:America/New_York
BEGIN:DAYLIGHT
TZOFFSETFROM:-0500
TZOFFSETTO:-0400
TZNAME:EDT
DTSTART:20240310T070000
END:DAYLIGHT
BEGIN:STANDARD
TZOFFSETFROM:-0400
TZOFFSETTO:-0500
TZNAME:EST
DTSTART:20241103T060000
END:STANDARD
BEGIN:DAYLIGHT
TZOFFSETFROM:-0500
TZOFFSETTO:-0400
TZNAME:EDT
DTSTART:20250309T070000
END:DAYLIGHT
BEGIN:STANDARD
TZOFFSETFROM:-0400
TZOFFSETTO:-0500
TZNAME:EST
DTSTART:20251102T060000
END:STANDARD
BEGIN:DAYLIGHT
TZOFFSETFROM:-0500
TZOFFSETTO:-0400
TZNAME:EDT
DTSTART:20260308T070000
END:DAYLIGHT
BEGIN:STANDARD
TZOFFSETFROM:-0400
TZOFFSETTO:-0500
TZNAME:EST
DTSTART:20261101T060000
END:STANDARD
END:VTIMEZONE
BEGIN:VEVENT
DTSTART;TZID=America/New_York:20250226T083000
DTEND;TZID=America/New_York:20250226T093000
DTSTAMP:20260419T144846
CREATED:20250220T133536Z
LAST-MODIFIED:20250220T133536Z
UID:10000339-1740558600-1740562200@plantcitytoday.com
SUMMARY:Planning Board Regular Meeting
DESCRIPTION:
URL:https://plantcitytoday.com/event/planning-board-regular-meeting/
CATEGORIES:Plant City Government
END:VEVENT
BEGIN:VEVENT
DTSTART;TZID=America/New_York:20250225T133000
DTEND;TZID=America/New_York:20250225T143000
DTSTAMP:20260419T144846
CREATED:20250220T133535Z
LAST-MODIFIED:20250220T133535Z
UID:10000338-1740490200-1740493800@plantcitytoday.com
SUMMARY:Board of Adjustment Meeting
DESCRIPTION:
URL:https://plantcitytoday.com/event/board-of-adjustment-meeting/
CATEGORIES:Plant City Government
END:VEVENT
BEGIN:VEVENT
DTSTART;TZID=America/New_York:20250225T090000
DTEND;TZID=America/New_York:20250225T110000
DTSTAMP:20260419T144846
CREATED:20250220T134108Z
LAST-MODIFIED:20250220T134108Z
UID:10000349-1740474000-1740481200@plantcitytoday.com
SUMMARY:Non-Profit Leadership Roundtable
DESCRIPTION:
URL:https://plantcitytoday.com/event/non-profit-leadership-roundtable/
CATEGORIES:Business Networking
END:VEVENT
BEGIN:VEVENT
DTSTART;TZID=America/New_York:20250224T194500
DTEND;TZID=America/New_York:20250224T210000
DTSTAMP:20260419T144846
CREATED:20250220T133535Z
LAST-MODIFIED:20250220T133535Z
UID:10000337-1740426300-1740430800@plantcitytoday.com
SUMMARY:Community Redevelopment Agency (CRA) Meeting
DESCRIPTION:
URL:https://plantcitytoday.com/event/community-redevelopment-agency-cra-meeting-2/
CATEGORIES:Plant City Government
END:VEVENT
BEGIN:VEVENT
DTSTART;TZID=America/New_York:20250220T173000
DTEND;TZID=America/New_York:20250220T193000
DTSTAMP:20260419T144846
CREATED:20250220T134108Z
LAST-MODIFIED:20250220T134108Z
UID:10000348-1740072600-1740079800@plantcitytoday.com
SUMMARY:Business After Hours - FOCUS Magazine's Readers' Choice Awards
DESCRIPTION:
URL:https://plantcitytoday.com/event/business-after-hours-focus-magazines-readers-choice-awards/
CATEGORIES:Business Networking
END:VEVENT
BEGIN:VEVENT
DTSTART;TZID=America/New_York:20250220T090000
DTEND;TZID=America/New_York:20250220T120000
DTSTAMP:20260419T144846
CREATED:20250220T134108Z
LAST-MODIFIED:20250220T134108Z
UID:10000347-1740042000-1740052800@plantcitytoday.com
SUMMARY:Entrepreneur/Small Business Consulting Services
DESCRIPTION:
URL:https://plantcitytoday.com/event/entrepreneur-small-business-consulting-services-3/
CATEGORIES:Business Networking
END:VEVENT
BEGIN:VEVENT
DTSTART;TZID=America/New_York:20250219T120000
DTEND;TZID=America/New_York:20250219T133000
DTSTAMP:20260419T144846
CREATED:20250220T134108Z
LAST-MODIFIED:20250220T134108Z
UID:10000346-1739966400-1739971800@plantcitytoday.com
SUMMARY:February Power Hour - Aspire Plant City
DESCRIPTION:
URL:https://plantcitytoday.com/event/february-power-hour-aspire-plant-city/
CATEGORIES:Business Networking
END:VEVENT
BEGIN:VEVENT
DTSTART;TZID=America/New_York:20250218T173000
DTEND;TZID=America/New_York:20250218T183000
DTSTAMP:20260419T144846
CREATED:20250220T133534Z
LAST-MODIFIED:20250220T133534Z
UID:10000336-1739899800-1739903400@plantcitytoday.com
SUMMARY:Historic Resources Board Meeting
DESCRIPTION:
URL:https://plantcitytoday.com/event/historic-resources-board-meeting/
CATEGORIES:Plant City Government
END:VEVENT
BEGIN:VEVENT
DTSTART;TZID=America/New_York:20250218T080000
DTEND;TZID=America/New_York:20250218T093000
DTSTAMP:20260419T144846
CREATED:20250220T134108Z
LAST-MODIFIED:20250220T134108Z
UID:10000345-1739865600-1739871000@plantcitytoday.com
SUMMARY:Connect & Grow (Leads Group)
DESCRIPTION:
URL:https://plantcitytoday.com/event/connect-grow-leads-group-3/
CATEGORIES:Business Networking
END:VEVENT
BEGIN:VEVENT
DTSTART;TZID=America/New_York:20250214T080000
DTEND;TZID=America/New_York:20250214T100000
DTSTAMP:20260419T144846
CREATED:20250220T134106Z
LAST-MODIFIED:20250220T134106Z
UID:10000344-1739520000-1739527200@plantcitytoday.com
SUMMARY:Aspire Plant City: Coffee & Collaboration RAOK
DESCRIPTION:
URL:https://plantcitytoday.com/event/aspire-plant-city-coffee-collaboration-raok/
CATEGORIES:Business Networking
END:VEVENT
BEGIN:VEVENT
DTSTART;TZID=America/New_York:20250213T090000
DTEND;TZID=America/New_York:20250213T120000
DTSTAMP:20260419T144846
CREATED:20250220T134106Z
LAST-MODIFIED:20250220T134106Z
UID:10000343-1739437200-1739448000@plantcitytoday.com
SUMMARY:Entrepreneur/Small Business Consulting Services
DESCRIPTION:
URL:https://plantcitytoday.com/event/entrepreneur-small-business-consulting-services-2/
CATEGORIES:Business Networking
END:VEVENT
BEGIN:VEVENT
DTSTART;TZID=America/New_York:20250210T194500
DTEND;TZID=America/New_York:20250210T210000
DTSTAMP:20260419T144846
CREATED:20250220T133534Z
LAST-MODIFIED:20250220T133534Z
UID:10000335-1739216700-1739221200@plantcitytoday.com
SUMMARY:Community Redevelopment Agency (CRA) Meeting
DESCRIPTION:
URL:https://plantcitytoday.com/event/community-redevelopment-agency-cra-meeting/
CATEGORIES:Plant City Government
END:VEVENT
BEGIN:VEVENT
DTSTART;TZID=America/New_York:20250206T090000
DTEND;TZID=America/New_York:20250206T120000
DTSTAMP:20260419T144846
CREATED:20250220T134106Z
LAST-MODIFIED:20250220T134106Z
UID:10000342-1738832400-1738843200@plantcitytoday.com
SUMMARY:Entrepreneur/Small Business Consulting Services
DESCRIPTION:
URL:https://plantcitytoday.com/event/entrepreneur-small-business-consulting-services/
CATEGORIES:Business Networking
END:VEVENT
BEGIN:VEVENT
DTSTART;TZID=America/New_York:20250205T100000
DTEND;TZID=America/New_York:20250205T140000
DTSTAMP:20260419T144846
CREATED:20250220T134106Z
LAST-MODIFIED:20250220T134106Z
UID:10000341-1738749600-1738764000@plantcitytoday.com
SUMMARY:Spring 2025 HCC Job Fair
DESCRIPTION:
URL:https://plantcitytoday.com/event/spring-2025-hcc-job-fair/
CATEGORIES:Business Networking
END:VEVENT
BEGIN:VEVENT
DTSTART;TZID=America/New_York:20250204T151500
DTEND;TZID=America/New_York:20250204T161500
DTSTAMP:20260419T144846
CREATED:20250220T133534Z
LAST-MODIFIED:20250220T133534Z
UID:10000334-1738682100-1738685700@plantcitytoday.com
SUMMARY:Safety Employees' Quarterly Pension Board Meeting
DESCRIPTION:
URL:https://plantcitytoday.com/event/safety-employees-quarterly-pension-board-meeting/
CATEGORIES:Plant City Government
END:VEVENT
BEGIN:VEVENT
DTSTART;TZID=America/New_York:20250204T080000
DTEND;TZID=America/New_York:20250204T093000
DTSTAMP:20260419T144846
CREATED:20250220T134106Z
LAST-MODIFIED:20250220T134106Z
UID:10000340-1738656000-1738661400@plantcitytoday.com
SUMMARY:Connect & Grow (Leads Group)
DESCRIPTION:
URL:https://plantcitytoday.com/event/connect-grow-leads-group-2/
CATEGORIES:Business Networking
END:VEVENT
BEGIN:VEVENT
DTSTART;TZID=America/New_York:20250123T073000
DTEND;TZID=America/New_York:20250123T090000
DTSTAMP:20260419T144846
CREATED:20250115T130415Z
LAST-MODIFIED:20250220T132702Z
UID:10000005-1737617400-1737622800@plantcitytoday.com
SUMMARY:Plant City Toastmasters
DESCRIPTION:Come join us for a weekly Toastmasters meeting\, ?Where Leaders are Made!? Does public speaking intimidate you? Want to meet new friends intent on conquering this fear while having a great time? Then Toastmasters is for you! Come check us out and you will see why we are one of the largest clubs in District 84 of Toastmasters International. We will see you there!
URL:https://plantcitytoday.com/event/plant-city-toastmasters/
END:VEVENT
BEGIN:VEVENT
DTSTART;TZID=America/New_York:20250121T173000
DTEND;TZID=America/New_York:20250121T173000
DTSTAMP:20260419T144846
CREATED:20250115T125351Z
LAST-MODIFIED:20250115T132143Z
UID:10000003-1737480600-1737480600@plantcitytoday.com
SUMMARY:Historic Resources Board
DESCRIPTION:NOTICE IS HEREBY GIVEN that the Historic Resources Board of the City of Plant City\, in meets the 3rd Tuesday of every month\, however\, this date is subject to change or be cancelled.   The meetings are held within the City Commission Chambers of the Nettie Berry Draughon Municipal Building\, 302 W. Reynolds Street\, Plant City\, Florida 33563\,  to which all interested persons are invited.
URL:https://plantcitytoday.com/event/historic-resources-board/
CATEGORIES:Plant City Government
END:VEVENT
BEGIN:VEVENT
DTSTART;TZID=America/New_York:20250121T080000
DTEND;TZID=America/New_York:20250121T090000
DTSTAMP:20260419T144846
CREATED:20250115T130143Z
LAST-MODIFIED:20250115T130143Z
UID:10000004-1737446400-1737450000@plantcitytoday.com
SUMMARY:Connect & Grow (Leads Group)
DESCRIPTION:Connect & Grow provides opportunities for its members to connect with other businesses and business leaders within the community. Be ready to share best business practices\, build business relationships\, and generate referrals.\nThis leads group meets bi-monthly on the 1st and 3rd Tuesday of the month at 8:00am and is limited to two members from each business category. If you are interested in joining Connect & Grow\, contact Jerilyn Rumbarger at (813) 754-3707 ext. 102 to check for openings.
URL:https://plantcitytoday.com/event/connect-grow-leads-group/
END:VEVENT
END:VCALENDAR